BEGIN:VCALENDAR
VERSION:2.0
PRODID:-//Packard Point Ranch - ECPv6.15.17//NONSGML v1.0//EN
CALSCALE:GREGORIAN
METHOD:PUBLISH
X-WR-CALNAME:Packard Point Ranch
X-ORIGINAL-URL:https://packardpoint.com
X-WR-CALDESC:Events for Packard Point Ranch
REFRESH-INTERVAL;VALUE=DURATION:PT1H
X-Robots-Tag:noindex
X-PUBLISHED-TTL:PT1H
BEGIN:VTIMEZONE
TZID:America/Chicago
BEGIN:DAYLIGHT
TZOFFSETFROM:-0600
TZOFFSETTO:-0500
TZNAME:CDT
DTSTART:20220313T080000
END:DAYLIGHT
BEGIN:STANDARD
TZOFFSETFROM:-0500
TZOFFSETTO:-0600
TZNAME:CST
DTSTART:20221106T070000
END:STANDARD
BEGIN:DAYLIGHT
TZOFFSETFROM:-0600
TZOFFSETTO:-0500
TZNAME:CDT
DTSTART:20230312T080000
END:DAYLIGHT
BEGIN:STANDARD
TZOFFSETFROM:-0500
TZOFFSETTO:-0600
TZNAME:CST
DTSTART:20231105T070000
END:STANDARD
BEGIN:DAYLIGHT
TZOFFSETFROM:-0600
TZOFFSETTO:-0500
TZNAME:CDT
DTSTART:20240310T080000
END:DAYLIGHT
BEGIN:STANDARD
TZOFFSETFROM:-0500
TZOFFSETTO:-0600
TZNAME:CST
DTSTART:20241103T070000
END:STANDARD
END:VTIMEZONE
BEGIN:VEVENT
DTSTART;TZID=America/Chicago:20230311T093000
DTEND;TZID=America/Chicago:20230311T130000
DTSTAMP:20260422T034054
CREATED:20230313T200618Z
LAST-MODIFIED:20230313T200937Z
UID:1600-1678527000-1678539600@packardpoint.com
SUMMARY:Cooking Class "Nothing Fancy" by Alison Roman
DESCRIPTION:Cooking from “Nothing Fancy”\nDate: Saturday\, March 11\, 2023\nTime: 9:30-1pm\nPlace: Packard Point Ranch\nCost: $125/person \nPlease join us for a cooking class featuring the cookbook “Nothing Fancy” by Alison Roman. We will be cooking selected recipes from her wonderful book\, learning the techniques as a group\, and enjoying lunch together on the ranch. Included is your very own copy of her cookbook. Cost is $125/person. Space is limited to 12 participants.
URL:https://packardpoint.com/event/cooking-class-nothing-fancy-by-alison-roman/
LOCATION:Packard Point
CATEGORIES:Classes/Workshops
ATTACH;FMTTYPE=image/jpeg:https://storage.googleapis.com/megaphone-public/sites/32/2023/02/nothing-fancy.jpg
END:VEVENT
END:VCALENDAR